BEGIN:VCALENDAR
VERSION:2.0
PRODID:spatie/icalendar-generator
DESCRIPTION:Events from Michigan Blind Athletic Association
X-WR-CALDESC:Events from Michigan Blind Athletic Association
REFRESH-INTERVAL;VALUE=DURATION:PT1440M
X-PUBLISHED-TTL:PT1440M
BEGIN:VTIMEZONE
TZID:Etc/GMT+0
BEGIN:STANDARD
DTSTART:20250617T130000Z
TZOFFSETFROM:+0000
TZOFFSETTO:+0000
END:STANDARD
END:VTIMEZONE
BEGIN:VTIMEZONE
TZID:UTC
BEGIN:STANDARD
DTSTART:20250727T171024Z
TZOFFSETFROM:+0000
TZOFFSETTO:+0000
END:STANDARD
END:VTIMEZONE
BEGIN:VEVENT
UID:5-2
DTSTAMP:20260423T171024Z
SUMMARY:MBAA Goalball Practice at Camp T
LOCATION:Camp Tuhsmeheta 10500 Lincoln Lake RD NE  Greenville MI 48838
ORGANIZER;CN=jj:MAILTO:jj@bestmidi.com
RRULE:FREQ=MONTHLY;BYDAY=2SA;UNTIL=20260509T000000Z
DTSTART;TZID=Etc/GMT+0:20260314T130000
DTEND;TZID=Etc/GMT+0:20260314T180000
X-ALT-DESC;FMTTYPE=TEXT/HTML:Monthly adult goalball practice at Camp Tuhsme
 heta's Oak Recreation Center. If you are new to practice\, please reach ou
 t for details.
CATEGORIES:Goalball,  Practice
URL;VALUE=URI:https://miblindsports.org/mc-events/mbaa-goalball-practice-at
 -camp-t/?mc_id=5
METHOD:PUBLISH
END:VEVENT
END:VCALENDAR