BEGIN:VCALENDAR
VERSION:2.0
PRODID:spatie/icalendar-generator
DESCRIPTION:Events from Michigan Blind Athletic Association
X-WR-CALDESC:Events from Michigan Blind Athletic Association
REFRESH-INTERVAL;VALUE=DURATION:PT1440M
X-PUBLISHED-TTL:PT1440M
BEGIN:VTIMEZONE
TZID:Etc/GMT+0
BEGIN:STANDARD
DTSTART:20250429T080000Z
TZOFFSETFROM:+0000
TZOFFSETTO:+0000
END:STANDARD
END:VTIMEZONE
BEGIN:VTIMEZONE
TZID:UTC
BEGIN:STANDARD
DTSTART:20250727T203940Z
TZOFFSETFROM:+0000
TZOFFSETTO:+0000
END:STANDARD
END:VTIMEZONE
BEGIN:VEVENT
UID:7-3
DTSTAMP:20260423T203940Z
SUMMARY:Goalball Tournament - Meijer State Games of Michigan
LOCATION:Orchard United Methodist Church 30450 Farmington Rd.  Farmington H
 ills MI 48334
ORGANIZER;CN=jj:MAILTO:jj@bestmidi.com
DTSTART;TZID=Etc/GMT+0:20260124T080000
DTEND;TZID=Etc/GMT+0:20260124T210000
X-ALT-DESC;FMTTYPE=TEXT/HTML:Join us in welcoming goalball as part of the 2
 026 Winter Games! This event will host athletes from the surrounding area 
 in a fun-filled\, competitive event. Check out the tournament website for 
 more information on the adaptive sports invitational and we hope to see yo
 u there!
CATEGORIES:Goalball,  Tournament
URL;VALUE=URI:https://miblindsports.org/mc-events/goalball-tournament-meije
 r-state-games-of-michigan/
METHOD:PUBLISH
END:VEVENT
END:VCALENDAR